Workbook

Sheet 총  계
A1: 2027년도 G마크 등 경쟁력 제고 수요조사
H2: (단위 : 천원)
A3: 시군 | B3: 지원대상 (개소) | C3: 사업량 | D3: 계 | E3: 도비 | F3: 시군비 | G3: 자부담 | H3: 비고
A4: 계 | B4: =SUM(B7:B37) -> 0 | C4: =SUM(C7:C37) -> 0 | D4: =SUM(D7:D37) -> 0 | E4: =SUM(E7:E37) -> 0 | F4: =SUM(F7:F37) -> 0 | G4: =SUM(G7:G37) -> 0
A5: 00시군 | B5: ='1.포장재'!B4+'2.생산유통시설'!B4+#REF! -> #REF! | C5: ='1.포장재'!C4+'2.생산유통시설'!C4+#REF! -> #REF! | D5: =SUM(E5:G5) -> #REF! | E5: ='1.포장재'!E4+'2.생산유통시설'!E4+#REF! -> #REF! | F5: ='1.포장재'!F4+'2.생산유통시설'!F4+#REF! -> #REF! | G5: ='1.포장재'!G4+'2.생산유통시설'!G4+#REF! -> #REF!

Sheet 1.포장재
A1: 1. 포장재
H2: (단위 : 천원, %)
A3: 시군 | B3: 지원대상 | C3: 사업량 | D3: 계 | E3: 도비(20%) | F3: 시군비(30%) | G3: 자부담(50%) | H3: 비고
A4: 계 | B4: =COUNTA(B5:B22) -> 1 | C4: =COUNTA(C5:C22) -> 1 | D4: =SUM(D5:D22) -> 0 | E4: =SUM(E5:E22) -> 0 | F4: =SUM(F5:F22) -> 0 | G4: =SUM(G5:G22) -> 0
A5: 00시군 | B5: 경영체명 | C5: 00 포장재 00천매(개) | D5: =SUM(E5:G5) -> 0
D6: =SUM(E6:G6) -> 0
D7: =SUM(E7:G7) -> 0
D8: =SUM(E8:G8) -> 0
D9: =SUM(E9:G9) -> 0
D10: =SUM(E10:G10) -> 0
D11: =SUM(E11:G11) -> 0
D12: =SUM(E12:G12) -> 0
D13: =SUM(E13:G13) -> 0
D14: =SUM(E14:G14) -> 0
D15: =SUM(E15:G15) -> 0
D16: =SUM(E16:G16) -> 0
D17: =SUM(E17:G17) -> 0
... D22: =SUM(E22:G22) -> 0

Sheet 2.생산유통시설
A1: 2. 생산유통시설
H2: (단위 : 천원)
A3: 시군 | B3: 지원대상 | C3: 사업량 | D3: 계 | E3: 도비(18%) | F3: 시군비(42%) | G3: 자부담(40%) | H3: 비고
A4: 계 | B4: =COUNTA(B5:B18) -> 1 | C4: =COUNTA(C5:C18) -> 1 | D4: =SUM(D5:D18) -> 0 | E4: =SUM(E5:E18) -> 0 | F4: =SUM(F5:F18) -> 0 | G4: =SUM(G5:G18) -> 0
A5: 00시군 | B5: 경영체명 | C5: 00 집하장 개보수 | D5: =SUM(E5:G5) -> 0
D6: =SUM(E6:G6) -> 0
D7: =SUM(E7:G7) -> 0
D8: =SUM(E8:G8) -> 0
D9: =SUM(E9:G9) -> 0
D10: =SUM(E10:G10) -> 0
D11: =SUM(E11:G11) -> 0
D12: =SUM(E12:G12) -> 0
D13: =SUM(E13:G13) -> 0
D14: =SUM(E14:G14) -> 0
D15: =SUM(E15:G15) -> 0
D16: =SUM(E16:G16) -> 0
D17: =SUM(E17:G17) -> 0
D18: =SUM(E18:G18) -> 0
