Workbook

Sheet 1.중학생
A1: □ 2026년 경기도 청소년 생활장학금 지원대상자 추천 명단 (중학교)
A2: ˙ 엑셀 서식 수정 X : 주민등록번호 기재 시 생년월일 자동, 은행명 선택 시 은행코드 자동, 각 항목 전체 기재 시 총점 자동 계산 (점수 계산 할 필요 x) ˙ 압류방지통장 불가, 현금 지급 불가 ˙ 다자녀가정 기준 : 성인 자녀 포함 자녀 3인 이상 가정(2자녀 가구 해당X) 이혼 ·한부모가정의 경우 담당자 업무 매뉴얼 참고 ˙ 1가구 당 1인 선정 (가구당 2인 이상 신청 시 비고란에 해당사항 기재 요청) ˙ 배점표 및 점수와 관련한 일체 내용 민원인에게 공개 금지
A3: 구분 | B3: 읍면동 | C3: 학생성명 | D3: 주민등록번호 | E3: 생년월일 (자동작성) | F3: 계좌정보 (청소년 본인계좌 우선, 압류방지통장 불가) | K3: 총점 (자동작성) | L3: 소득기준 | M3: 우대조건 | Q3: 보호자연락처 | R3: 접수유형 | S3: 비고 (특이사항)
F4: 은행명 | G4: 은행코드 (자동작성) | H4: 예금주명 | I4: 계 좌 번 호 | J4: 학생과의 관계 | M4: 25년 생활장학금 수혜여부 | N4: 도내 시설거주자 | O4: 다자녀가정 | P4: 다문화가정 및 북한이탈주민
A5: 1 | B5: 주교동 | C5: 이길동 | D5: 120202-4231584 | E5: =DATE(IF(MID(D5,8,1)<=2,1900,2000)+LEFT(D5,2),MID(D5,3,2),MID(D5,5,2)) -> 40941 | F5: 한국은행 | G5: =IFERROR(INDEX('작성 X'!$F:$F,MATCH(F5,'작성 X'!$G:$G,0)),"") -> 001 | I5: 011-22-333-0523 | J5: 본인 | K5: =IFERROR(VLOOKUP(L5,'작성 X'!$B$2:$C$7,2,FALSE),0) +IFERROR(VLOOKUP(M5,'작성 X'!$B$10:$C$12,2,FALSE),0) +IFERROR(VLOOKUP(N5,'작성 X'!$B$14:$C$17,2,FALSE),0) +IFERROR(VLOOKUP(O5,'작성 X'!$B$19:$C$20,2,FALSE),0) +IFERROR(VLOOKUP(P5,'작성 X'!$B$19:$C$20,2,FALSE),0) -> 100 | L5: 생계 | M5: 미지급 | N5: 보호대상아동 | O5: O | P5: O | Q5: 010-0000-9999 | R5: 온라인 | S5: 고등학생 이고양의 동생
E6: =DATE(IF(MID(D6,8,1)<=2,1900,2000)+LEFT(D6,2),MID(D6,3,2),MID(D6,5,2)) -> #VALUE! | G6: =IFERROR(INDEX('작성 X'!$F:$F,MATCH(F6,'작성 X'!$G:$G,0)),"") | K6: =IFERROR(VLOOKUP(L6,'작성 X'!$B$2:$C$7,2,FALSE),0) +IFERROR(VLOOKUP(M6,'작성 X'!$B$10:$C$12,2,FALSE),0) +IFERROR(VLOOKUP(N6,'작성 X'!$B$14:$C$17,2,FALSE),0) +IFERROR(VLOOKUP(O6,'작성 X'!$B$19:$C$20,2,FALSE),0) +IFERROR(VLOOKUP(P6,'작성 X'!$B$19:$C$20,2,FALSE),0) -> 0
E7: =DATE(IF(MID(D7,8,1)<=2,1900,2000)+LEFT(D7,2),MID(D7,3,2),MID(D7,5,2)) -> #VALUE! | G7: =IFERROR(INDEX('작성 X'!$F:$F,MATCH(F7,'작성 X'!$G:$G,0)),"") | K7: =IFERROR(VLOOKUP(L7,'작성 X'!$B$2:$C$7,2,FALSE),0) +IFERROR(VLOOKUP(M7,'작성 X'!$B$10:$C$12,2,FALSE),0) +IFERROR(VLOOKUP(N7,'작성 X'!$B$14:$C$17,2,FALSE),0) +IFERROR(VLOOKUP(O7,'작성 X'!$B$19:$C$20,2,FALSE),0) +IFERROR(VLOOKUP(P7,'작성 X'!$B$19:$C$20,2,FALSE),0) -> 0
E8: =DATE(IF(MID(D8,8,1)<=2,1900,2000)+LEFT(D8,2),MID(D8,3,2),MID(D8,5,2)) -> #VALUE! | G8: =IFERROR(INDEX('작성 X'!$F:$F,MATCH(F8,'작성 X'!$G:$G,0)),"") | K8: =IFERROR(VLOOKUP(L8,'작성 X'!$B$2:$C$7,2,FALSE),0) +IFERROR(VLOOKUP(M8,'작성 X'!$B$10:$C$12,2,FALSE),0) +IFERROR(VLOOKUP(N8,'작성 X'!$B$14:$C$17,2,FALSE),0) +IFERROR(VLOOKUP(O8,'작성 X'!$B$19:$C$20,2,FALSE),0) +IFERROR(VLOOKUP(P8,'작성 X'!$B$19:$C$20,2,FALSE),0) -> 0
E9: =DATE(IF(MID(D9,8,1)<=2,1900,2000)+LEFT(D9,2),MID(D9,3,2),MID(D9,5,2)) -> #VALUE! | G9: =IFERROR(INDEX('작성 X'!$F:$F,MATCH(F9,'작성 X'!$G:$G,0)),"") | K9: =IFERROR(VLOOKUP(L9,'작성 X'!$B$2:$C$7,2,FALSE),0) +IFERROR(VLOOKUP(M9,'작성 X'!$B$10:$C$12,2,FALSE),0) +IFERROR(VLOOKUP(N9,'작성 X'!$B$14:$C$17,2,FALSE),0) +IFERROR(VLOOKUP(O9,'작성 X'!$B$19:$C$20,2,FALSE),0) +IFERROR(VLOOKUP(P9,'작성 X'!$B$19:$C$20,2,FALSE),0) -> 0
E10: =DATE(IF(MID(D10,8,1)<=2,1900,2000)+LEFT(D10,2),MID(D10,3,2),MID(D10,5,2)) -> #VALUE! | G10: =IFERROR(INDEX('작성 X'!$F:$F,MATCH(F10,'작성 X'!$G:$G,0)),"") | K10: =IFERROR(VLOOKUP(L10,'작성 X'!$B$2:$C$7,2,FALSE),0) +IFERROR(VLOOKUP(M10,'작성 X'!$B$10:$C$12,2,FALSE),0) +IFERROR(VLOOKUP(N10,'작성 X'!$B$14:$C$17,2,FALSE),0) +IFERROR(VLOOKUP(O10,'작성 X'!$B$19:$C$20,2,FALSE),0) +IFERROR(VLOOKUP(P10,'작성 X'!$B$19:$C$20,2,FALSE),0) -> 0
E11: =DATE(IF(MID(D11,8,1)<=2,1900,2000)+LEFT(D11,2),MID(D11,3,2),MID(D11,5,2)) -> #VALUE! | G11: =IFERROR(INDEX('작성 X'!$F:$F,MATCH(F11,'작성 X'!$G:$G,0)),"") | K11: =IFERROR(VLOOKUP(L11,'작성 X'!$B$2:$C$7,2,FALSE),0) +IFERROR(VLOOKUP(M11,'작성 X'!$B$10:$C$12,2,FALSE),0) +IFERROR(VLOOKUP(N11,'작성 X'!$B$14:$C$17,2,FALSE),0) +IFERROR(VLOOKUP(O11,'작성 X'!$B$19:$C$20,2,FALSE),0) +IFERROR(VLOOKUP(P11,'작성 X'!$B$19:$C$20,2,FALSE),0) -> 0
E12: =DATE(IF(MID(D12,8,1)<=2,1900,2000)+LEFT(D12,2),MID(D12,3,2),MID(D12,5,2)) -> #VALUE! | G12: =IFERROR(INDEX('작성 X'!$F:$F,MATCH(F12,'작성 X'!$G:$G,0)),"") | K12: =IFERROR(VLOOKUP(L12,'작성 X'!$B$2:$C$7,2,FALSE),0) +IFERROR(VLOOKUP(M12,'작성 X'!$B$10:$C$12,2,FALSE),0) +IFERROR(VLOOKUP(N12,'작성 X'!$B$14:$C$17,2,FALSE),0) +IFERROR(VLOOKUP(O12,'작성 X'!$B$19:$C$20,2,FALSE),0) +IFERROR(VLOOKUP(P12,'작성 X'!$B$19:$C$20,2,FALSE),0) -> 0
E13: =DATE(IF(MID(D13,8,1)<=2,1900,2000)+LEFT(D13,2),MID(D13,3,2),MID(D13,5,2)) -> #VALUE! | G13: =IFERROR(INDEX('작성 X'!$F:$F,MATCH(F13,'작성 X'!$G:$G,0)),"") | K13: =IFERROR(VLOOKUP(L13,'작성 X'!$B$2:$C$7,2,FALSE),0) +IFERROR(VLOOKUP(M13,'작성 X'!$B$10:$C$12,2,FALSE),0) +IFERROR(VLOOKUP(N13,'작성 X'!$B$14:$C$17,2,FALSE),0) +IFERROR(VLOOKUP(O13,'작성 X'!$B$19:$C$20,2,FALSE),0) +IFERROR(VLOOKUP(P13,'작성 X'!$B$19:$C$20,2,FALSE),0) -> 0
E14: =DATE(IF(MID(D14,8,1)<=2,1900,2000)+LEFT(D14,2),MID(D14,3,2),MID(D14,5,2)) -> #VALUE! | G14: =IFERROR(INDEX('작성 X'!$F:$F,MATCH(F14,'작성 X'!$G:$G,0)),"") | K14: =IFERROR(VLOOKUP(L14,'작성 X'!$B$2:$C$7,2,FALSE),0) +IFERROR(VLOOKUP(M14,'작성 X'!$B$10:$C$12,2,FALSE),0) +IFERROR(VLOOKUP(N14,'작성 X'!$B$14:$C$17,2,FALSE),0) +IFERROR(VLOOKUP(O14,'작성 X'!$B$19:$C$20,2,FALSE),0) +IFERROR(VLOOKUP(P14,'작성 X'!$B$19:$C$20,2,FALSE),0) -> 0
E15: =DATE(IF(MID(D15,8,1)<=2,1900,2000)+LEFT(D15,2),MID(D15,3,2),MID(D15,5,2)) -> #VALUE! | G15: =IFERROR(INDEX('작성 X'!$F:$F,MATCH(F15,'작성 X'!$G:$G,0)),"") | K15: =IFERROR(VLOOKUP(L15,'작성 X'!$B$2:$C$7,2,FALSE),0) +IFERROR(VLOOKUP(M15,'작성 X'!$B$10:$C$12,2,FALSE),0) +IFERROR(VLOOKUP(N15,'작성 X'!$B$14:$C$17,2,FALSE),0) +IFERROR(VLOOKUP(O15,'작성 X'!$B$19:$C$20,2,FALSE),0) +IFERROR(VLOOKUP(P15,'작성 X'!$B$19:$C$20,2,FALSE),0) -> 0
E16: =DATE(IF(MID(D16,8,1)<=2,1900,2000)+LEFT(D16,2),MID(D16,3,2),MID(D16,5,2)) -> #VALUE! | G16: =IFERROR(INDEX('작성 X'!$F:$F,MATCH(F16,'작성 X'!$G:$G,0)),"") | K16: =IFERROR(VLOOKUP(L16,'작성 X'!$B$2:$C$7,2,FALSE),0) +IFERROR(VLOOKUP(M16,'작성 X'!$B$10:$C$12,2,FALSE),0) +IFERROR(VLOOKUP(N16,'작성 X'!$B$14:$C$17,2,FALSE),0) +IFERROR(VLOOKUP(O16,'작성 X'!$B$19:$C$20,2,FALSE),0) +IFERROR(VLOOKUP(P16,'작성 X'!$B$19:$C$20,2,FALSE),0) -> 0
E17: =DATE(IF(MID(D17,8,1)<=2,1900,2000)+LEFT(D17,2),MID(D17,3,2),MID(D17,5,2)) -> #VALUE! | G17: =IFERROR(INDEX('작성 X'!$F:$F,MATCH(F17,'작성 X'!$G:$G,0)),"") | K17: =IFERROR(VLOOKUP(L17,'작성 X'!$B$2:$C$7,2,FALSE),0) +IFERROR(VLOOKUP(M17,'작성 X'!$B$10:$C$12,2,FALSE),0) +IFERROR(VLOOKUP(N17,'작성 X'!$B$14:$C$17,2,FALSE),0) +IFERROR(VLOOKUP(O17,'작성 X'!$B$19:$C$20,2,FALSE),0) +IFERROR(VLOOKUP(P17,'작성 X'!$B$19:$C$20,2,FALSE),0) -> 0
... E36: =DATE(IF(MID(D36,8,1)<=2,1900,2000)+LEFT(D36,2),MID(D36,3,2),MID(D36,5,2)) -> #VALUE! | G36: =IFERROR(INDEX('작성 X'!$F:$F,MATCH(F36,'작성 X'!$G:$G,0)),"") | K36: =IFERROR(VLOOKUP(L36,'작성 X'!$B$2:$C$7,2,FALSE),0) +IFERROR(VLOOKUP(M36,'작성 X'!$B$10:$C$12,2,FALSE),0) +IFERROR(VLOOKUP(N36,'작성 X'!$B$14:$C$17,2,FALSE),0) +IFERROR(VLOOKUP(O36,'작성 X'!$B$19:$C$20,2,FALSE),0) +IFERROR(VLOOKUP(P36,'작성 X'!$B$19:$C$20,2,FALSE),0) -> 0
G37: =IFERROR(INDEX('작성 X'!$F:$F,MATCH(F37,'작성 X'!$G:$G,0)),"")
G38: =IFERROR(INDEX('작성 X'!$F:$F,MATCH(F38,'작성 X'!$G:$G,0)),"")
G39: =IFERROR(INDEX('작성 X'!$F:$F,MATCH(F39,'작성 X'!$G:$G,0)),"")
G40: =IFERROR(INDEX('작성 X'!$F:$F,MATCH(F40,'작성 X'!$G:$G,0)),"")
G41: =IFERROR(INDEX('작성 X'!$F:$F,MATCH(F41,'작성 X'!$G:$G,0)),"")
G42: =IFERROR(INDEX('작성 X'!$F:$F,MATCH(F42,'작성 X'!$G:$G,0)),"")
G43: =IFERROR(INDEX('작성 X'!$F:$F,MATCH(F43,'작성 X'!$G:$G,0)),"")
G44: =IFERROR(INDEX('작성 X'!$F:$F,MATCH(F44,'작성 X'!$G:$G,0)),"")
G45: =IFERROR(INDEX('작성 X'!$F:$F,MATCH(F45,'작성 X'!$G:$G,0)),"")
G46: =IFERROR(INDEX('작성 X'!$F:$F,MATCH(F46,'작성 X'!$G:$G,0)),"")
G47: =IFERROR(INDEX('작성 X'!$F:$F,MATCH(F47,'작성 X'!$G:$G,0)),"")
G48: =IFERROR(INDEX('작성 X'!$F:$F,MATCH(F48,'작성 X'!$G:$G,0)),"")
... G199: =IFERROR(INDEX('작성 X'!$F:$F,MATCH(F199,'작성 X'!$G:$G,0)),"")

Sheet 2. 고등학생
A1: □ 2026년 경기도 청소년 생활장학금 지원대상자 추천 명단 (고등학생)
A2: ˙ 엑셀 서식 수정 X : 주민등록번호 기재 시 생년월일 자동, 은행명 선택 시 은행코드 자동, 각 항목 전체 기재 시 총점 자동 계산 (점수 계산 할 필요 x) ˙ 압류방지통장 불가, 현금 지급 불가 ˙ 다자녀가정 기준 : 성인 자녀 포함 자녀 3인 이상 가정(2자녀 가구 해당X) 이혼 ·한부모가정의 경우 담당자 업무 매뉴얼 참고 ˙ 1가구 당 1인 선정 (가구당 2인 이상 신청 시 비고란에 해당사항 기재 요청) ˙ 배점표 및 점수와 관련한 일체 내용 민원인에게 공개 금지
A3: 구분 | B3: 읍면동 | C3: 학생성명 | D3: 주민등록번호 | E3: 생년월일 (자동작성) | F3: 계좌정보 (청소년 본인계좌 우선, 압류방지통장 불가) | K3: 총점 (자동작성) | L3: 소득기준 | M3: 우대조건 | Q3: 보호자연락처 | R3: 접수유형 | S3: 비고 (특이사항)
F4: 은행명 | G4: 은행코드 (자동작성) | H4: 예금주명 | I4: 계 좌 번 호 | J4: 학생과의 관계 | M4: 25년 생활장학금 수혜여부 | N4: 도내 시설거주자 | O4: 다자녀가정 | P4: 다문화가정 및 북한이탈주민
A5: 1 | B5: 주교동 | C5: 이고양 | D5: 090210-4000000 | E5: =DATE(IF(MID(D5,8,1)<=2,1900,2000)+LEFT(D5,2),MID(D5,3,2),MID(D5,5,2)) -> 39854 | F5: 한국은행 | G5: =IFERROR(INDEX('작성 X'!$F:$F,MATCH(F5,'작성 X'!$G:$G,0)),"") -> 001 | I5: 011-22-333-0523 | J5: 본인 | K5: =IFERROR(VLOOKUP(L5,'작성 X'!$B$2:$C$7,2,FALSE),0) +IFERROR(VLOOKUP(M5,'작성 X'!$B$10:$C$12,2,FALSE),0) +IFERROR(VLOOKUP(N5,'작성 X'!$B$14:$C$17,2,FALSE),0) +IFERROR(VLOOKUP(O5,'작성 X'!$B$19:$C$20,2,FALSE),0) +IFERROR(VLOOKUP(P5,'작성 X'!$B$19:$C$20,2,FALSE),0) -> 100 | L5: 생계 | M5: 미지급 | N5: 보호대상아동 | O5: O | P5: O | Q5: 010-0000-9999 | R5: 온라인 | S5: 중학생 이길동의 누나
E6: =DATE(IF(MID(D6,8,1)<=2,1900,2000)+LEFT(D6,2),MID(D6,3,2),MID(D6,5,2)) -> #VALUE! | G6: =IFERROR(INDEX('작성 X'!$F:$F,MATCH(F6,'작성 X'!$G:$G,0)),"") | K6: =IFERROR(VLOOKUP(L6,'작성 X'!$B$2:$C$7,2,FALSE),0) +IFERROR(VLOOKUP(M6,'작성 X'!$B$10:$C$12,2,FALSE),0) +IFERROR(VLOOKUP(N6,'작성 X'!$B$14:$C$17,2,FALSE),0) +IFERROR(VLOOKUP(O6,'작성 X'!$B$19:$C$20,2,FALSE),0) +IFERROR(VLOOKUP(P6,'작성 X'!$B$19:$C$20,2,FALSE),0) -> 0
E7: =DATE(IF(MID(D7,8,1)<=2,1900,2000)+LEFT(D7,2),MID(D7,3,2),MID(D7,5,2)) -> #VALUE! | G7: =IFERROR(INDEX('작성 X'!$F:$F,MATCH(F7,'작성 X'!$G:$G,0)),"") | K7: =IFERROR(VLOOKUP(L7,'작성 X'!$B$2:$C$7,2,FALSE),0) +IFERROR(VLOOKUP(M7,'작성 X'!$B$10:$C$12,2,FALSE),0) +IFERROR(VLOOKUP(N7,'작성 X'!$B$14:$C$17,2,FALSE),0) +IFERROR(VLOOKUP(O7,'작성 X'!$B$19:$C$20,2,FALSE),0) +IFERROR(VLOOKUP(P7,'작성 X'!$B$19:$C$20,2,FALSE),0) -> 0
E8: =DATE(IF(MID(D8,8,1)<=2,1900,2000)+LEFT(D8,2),MID(D8,3,2),MID(D8,5,2)) -> #VALUE! | G8: =IFERROR(INDEX('작성 X'!$F:$F,MATCH(F8,'작성 X'!$G:$G,0)),"") | K8: =IFERROR(VLOOKUP(L8,'작성 X'!$B$2:$C$7,2,FALSE),0) +IFERROR(VLOOKUP(M8,'작성 X'!$B$10:$C$12,2,FALSE),0) +IFERROR(VLOOKUP(N8,'작성 X'!$B$14:$C$17,2,FALSE),0) +IFERROR(VLOOKUP(O8,'작성 X'!$B$19:$C$20,2,FALSE),0) +IFERROR(VLOOKUP(P8,'작성 X'!$B$19:$C$20,2,FALSE),0) -> 0
E9: =DATE(IF(MID(D9,8,1)<=2,1900,2000)+LEFT(D9,2),MID(D9,3,2),MID(D9,5,2)) -> #VALUE! | G9: =IFERROR(INDEX('작성 X'!$F:$F,MATCH(F9,'작성 X'!$G:$G,0)),"") | K9: =IFERROR(VLOOKUP(L9,'작성 X'!$B$2:$C$7,2,FALSE),0) +IFERROR(VLOOKUP(M9,'작성 X'!$B$10:$C$12,2,FALSE),0) +IFERROR(VLOOKUP(N9,'작성 X'!$B$14:$C$17,2,FALSE),0) +IFERROR(VLOOKUP(O9,'작성 X'!$B$19:$C$20,2,FALSE),0) +IFERROR(VLOOKUP(P9,'작성 X'!$B$19:$C$20,2,FALSE),0) -> 0
E10: =DATE(IF(MID(D10,8,1)<=2,1900,2000)+LEFT(D10,2),MID(D10,3,2),MID(D10,5,2)) -> #VALUE! | G10: =IFERROR(INDEX('작성 X'!$F:$F,MATCH(F10,'작성 X'!$G:$G,0)),"") | K10: =IFERROR(VLOOKUP(L10,'작성 X'!$B$2:$C$7,2,FALSE),0) +IFERROR(VLOOKUP(M10,'작성 X'!$B$10:$C$12,2,FALSE),0) +IFERROR(VLOOKUP(N10,'작성 X'!$B$14:$C$17,2,FALSE),0) +IFERROR(VLOOKUP(O10,'작성 X'!$B$19:$C$20,2,FALSE),0) +IFERROR(VLOOKUP(P10,'작성 X'!$B$19:$C$20,2,FALSE),0) -> 0
E11: =DATE(IF(MID(D11,8,1)<=2,1900,2000)+LEFT(D11,2),MID(D11,3,2),MID(D11,5,2)) -> #VALUE! | G11: =IFERROR(INDEX('작성 X'!$F:$F,MATCH(F11,'작성 X'!$G:$G,0)),"") | K11: =IFERROR(VLOOKUP(L11,'작성 X'!$B$2:$C$7,2,FALSE),0) +IFERROR(VLOOKUP(M11,'작성 X'!$B$10:$C$12,2,FALSE),0) +IFERROR(VLOOKUP(N11,'작성 X'!$B$14:$C$17,2,FALSE),0) +IFERROR(VLOOKUP(O11,'작성 X'!$B$19:$C$20,2,FALSE),0) +IFERROR(VLOOKUP(P11,'작성 X'!$B$19:$C$20,2,FALSE),0) -> 0
E12: =DATE(IF(MID(D12,8,1)<=2,1900,2000)+LEFT(D12,2),MID(D12,3,2),MID(D12,5,2)) -> #VALUE! | G12: =IFERROR(INDEX('작성 X'!$F:$F,MATCH(F12,'작성 X'!$G:$G,0)),"") | K12: =IFERROR(VLOOKUP(L12,'작성 X'!$B$2:$C$7,2,FALSE),0) +IFERROR(VLOOKUP(M12,'작성 X'!$B$10:$C$12,2,FALSE),0) +IFERROR(VLOOKUP(N12,'작성 X'!$B$14:$C$17,2,FALSE),0) +IFERROR(VLOOKUP(O12,'작성 X'!$B$19:$C$20,2,FALSE),0) +IFERROR(VLOOKUP(P12,'작성 X'!$B$19:$C$20,2,FALSE),0) -> 0
E13: =DATE(IF(MID(D13,8,1)<=2,1900,2000)+LEFT(D13,2),MID(D13,3,2),MID(D13,5,2)) -> #VALUE! | G13: =IFERROR(INDEX('작성 X'!$F:$F,MATCH(F13,'작성 X'!$G:$G,0)),"") | K13: =IFERROR(VLOOKUP(L13,'작성 X'!$B$2:$C$7,2,FALSE),0) +IFERROR(VLOOKUP(M13,'작성 X'!$B$10:$C$12,2,FALSE),0) +IFERROR(VLOOKUP(N13,'작성 X'!$B$14:$C$17,2,FALSE),0) +IFERROR(VLOOKUP(O13,'작성 X'!$B$19:$C$20,2,FALSE),0) +IFERROR(VLOOKUP(P13,'작성 X'!$B$19:$C$20,2,FALSE),0) -> 0
E14: =DATE(IF(MID(D14,8,1)<=2,1900,2000)+LEFT(D14,2),MID(D14,3,2),MID(D14,5,2)) -> #VALUE! | G14: =IFERROR(INDEX('작성 X'!$F:$F,MATCH(F14,'작성 X'!$G:$G,0)),"") | K14: =IFERROR(VLOOKUP(L14,'작성 X'!$B$2:$C$7,2,FALSE),0) +IFERROR(VLOOKUP(M14,'작성 X'!$B$10:$C$12,2,FALSE),0) +IFERROR(VLOOKUP(N14,'작성 X'!$B$14:$C$17,2,FALSE),0) +IFERROR(VLOOKUP(O14,'작성 X'!$B$19:$C$20,2,FALSE),0) +IFERROR(VLOOKUP(P14,'작성 X'!$B$19:$C$20,2,FALSE),0) -> 0
E15: =DATE(IF(MID(D15,8,1)<=2,1900,2000)+LEFT(D15,2),MID(D15,3,2),MID(D15,5,2)) -> #VALUE! | G15: =IFERROR(INDEX('작성 X'!$F:$F,MATCH(F15,'작성 X'!$G:$G,0)),"") | K15: =IFERROR(VLOOKUP(L15,'작성 X'!$B$2:$C$7,2,FALSE),0) +IFERROR(VLOOKUP(M15,'작성 X'!$B$10:$C$12,2,FALSE),0) +IFERROR(VLOOKUP(N15,'작성 X'!$B$14:$C$17,2,FALSE),0) +IFERROR(VLOOKUP(O15,'작성 X'!$B$19:$C$20,2,FALSE),0) +IFERROR(VLOOKUP(P15,'작성 X'!$B$19:$C$20,2,FALSE),0) -> 0
E16: =DATE(IF(MID(D16,8,1)<=2,1900,2000)+LEFT(D16,2),MID(D16,3,2),MID(D16,5,2)) -> #VALUE! | G16: =IFERROR(INDEX('작성 X'!$F:$F,MATCH(F16,'작성 X'!$G:$G,0)),"") | K16: =IFERROR(VLOOKUP(L16,'작성 X'!$B$2:$C$7,2,FALSE),0) +IFERROR(VLOOKUP(M16,'작성 X'!$B$10:$C$12,2,FALSE),0) +IFERROR(VLOOKUP(N16,'작성 X'!$B$14:$C$17,2,FALSE),0) +IFERROR(VLOOKUP(O16,'작성 X'!$B$19:$C$20,2,FALSE),0) +IFERROR(VLOOKUP(P16,'작성 X'!$B$19:$C$20,2,FALSE),0) -> 0
E17: =DATE(IF(MID(D17,8,1)<=2,1900,2000)+LEFT(D17,2),MID(D17,3,2),MID(D17,5,2)) -> #VALUE! | G17: =IFERROR(INDEX('작성 X'!$F:$F,MATCH(F17,'작성 X'!$G:$G,0)),"") | K17: =IFERROR(VLOOKUP(L17,'작성 X'!$B$2:$C$7,2,FALSE),0) +IFERROR(VLOOKUP(M17,'작성 X'!$B$10:$C$12,2,FALSE),0) +IFERROR(VLOOKUP(N17,'작성 X'!$B$14:$C$17,2,FALSE),0) +IFERROR(VLOOKUP(O17,'작성 X'!$B$19:$C$20,2,FALSE),0) +IFERROR(VLOOKUP(P17,'작성 X'!$B$19:$C$20,2,FALSE),0) -> 0
... E36: =DATE(IF(MID(D36,8,1)<=2,1900,2000)+LEFT(D36,2),MID(D36,3,2),MID(D36,5,2)) -> #VALUE! | G36: =IFERROR(INDEX('작성 X'!$F:$F,MATCH(F36,'작성 X'!$G:$G,0)),"") | K36: =IFERROR(VLOOKUP(L36,'작성 X'!$B$2:$C$7,2,FALSE),0) +IFERROR(VLOOKUP(M36,'작성 X'!$B$10:$C$12,2,FALSE),0) +IFERROR(VLOOKUP(N36,'작성 X'!$B$14:$C$17,2,FALSE),0) +IFERROR(VLOOKUP(O36,'작성 X'!$B$19:$C$20,2,FALSE),0) +IFERROR(VLOOKUP(P36,'작성 X'!$B$19:$C$20,2,FALSE),0) -> 0
G37: =IFERROR(INDEX('작성 X'!$F:$F,MATCH(F37,'작성 X'!$G:$G,0)),"")
G38: =IFERROR(INDEX('작성 X'!$F:$F,MATCH(F38,'작성 X'!$G:$G,0)),"")
G39: =IFERROR(INDEX('작성 X'!$F:$F,MATCH(F39,'작성 X'!$G:$G,0)),"")
G40: =IFERROR(INDEX('작성 X'!$F:$F,MATCH(F40,'작성 X'!$G:$G,0)),"")
G41: =IFERROR(INDEX('작성 X'!$F:$F,MATCH(F41,'작성 X'!$G:$G,0)),"")
G42: =IFERROR(INDEX('작성 X'!$F:$F,MATCH(F42,'작성 X'!$G:$G,0)),"")
G43: =IFERROR(INDEX('작성 X'!$F:$F,MATCH(F43,'작성 X'!$G:$G,0)),"")
G44: =IFERROR(INDEX('작성 X'!$F:$F,MATCH(F44,'작성 X'!$G:$G,0)),"")
G45: =IFERROR(INDEX('작성 X'!$F:$F,MATCH(F45,'작성 X'!$G:$G,0)),"")
G46: =IFERROR(INDEX('작성 X'!$F:$F,MATCH(F46,'작성 X'!$G:$G,0)),"")
G47: =IFERROR(INDEX('작성 X'!$F:$F,MATCH(F47,'작성 X'!$G:$G,0)),"")
G48: =IFERROR(INDEX('작성 X'!$F:$F,MATCH(F48,'작성 X'!$G:$G,0)),"")
... G199: =IFERROR(INDEX('작성 X'!$F:$F,MATCH(F199,'작성 X'!$G:$G,0)),"")

Sheet 3. 학교밖중학생(11~13년생)
A1: □ 2026년 경기도 청소년 생활장학금 지원대상자 추천 명단 (학교밖중학생 11~13년생)
A2: ˙ 엑셀 서식 수정 X : 주민등록번호 기재 시 생년월일 자동, 은행명 선택 시 은행코드 자동, 각 항목 전체 기재 시 총점 자동 계산 (점수 계산 할 필요 x) ˙ 압류방지통장 불가, 현금 지급 불가 ˙ 다자녀가정 기준 : 성인 자녀 포함 자녀 3인 이상 가정(2자녀 가구 해당X) 이혼 ·한부모가정의 경우 담당자 업무 매뉴얼 참고 ˙ 1가구 당 1인 선정 (가구당 2인 이상 신청 시 비고란에 해당사항 기재 요청) ˙ 배점표 및 점수와 관련한 일체 내용 민원인에게 공개 금지
A3: 구분 | B3: 읍면동 | C3: 학생성명 | D3: 주민등록번호 | E3: 생년월일 (자동작성) | F3: 계좌정보 (청소년 본인계좌 우선, 압류방지통장 불가) | K3: 총점 (자동작성) | L3: 소득기준 | M3: 우대조건 | Q3: 보호자연락처 | R3: 접수유형 | S3: 비고 (특이사항)
F4: 은행명 | G4: 은행코드 (자동작성) | H4: 예금주명 | I4: 계 좌 번 호 | J4: 학생과의 관계 | M4: 25년 생활장학금 수혜여부 | N4: 도내 시설거주자 | O4: 다자녀가정 | P4: 다문화가정 및 북한이탈주민
A5: 1 | B5: 주교동 | C5: 이길동 | D5: 120202-4231584 | E5: =DATE(IF(MID(D5,8,1)<=2,1900,2000)+LEFT(D5,2),MID(D5,3,2),MID(D5,5,2)) -> 40941 | F5: 한국은행 | G5: =IFERROR(INDEX('작성 X'!$F:$F,MATCH(F5,'작성 X'!$G:$G,0)),"") -> 001 | I5: 011-22-333-0523 | J5: 본인 | K5: =IFERROR(VLOOKUP(L5,'작성 X'!$B$2:$C$7,2,FALSE),0) +IFERROR(VLOOKUP(M5,'작성 X'!$B$10:$C$12,2,FALSE),0) +IFERROR(VLOOKUP(N5,'작성 X'!$B$14:$C$17,2,FALSE),0) +IFERROR(VLOOKUP(O5,'작성 X'!$B$19:$C$20,2,FALSE),0) +IFERROR(VLOOKUP(P5,'작성 X'!$B$19:$C$20,2,FALSE),0) -> 100 | L5: 생계 | M5: 미지급 | N5: 보호대상아동 | O5: O | P5: O | Q5: 010-0000-9999 | R5: 온라인 | S5: 고등학생 이고양의 동생
E6: =DATE(IF(MID(D6,8,1)<=2,1900,2000)+LEFT(D6,2),MID(D6,3,2),MID(D6,5,2)) -> #VALUE! | G6: =IFERROR(INDEX('작성 X'!$F:$F,MATCH(F6,'작성 X'!$G:$G,0)),"") | K6: =IFERROR(VLOOKUP(L6,'작성 X'!$B$2:$C$7,2,FALSE),0) +IFERROR(VLOOKUP(M6,'작성 X'!$B$10:$C$12,2,FALSE),0) +IFERROR(VLOOKUP(N6,'작성 X'!$B$14:$C$17,2,FALSE),0) +IFERROR(VLOOKUP(O6,'작성 X'!$B$19:$C$20,2,FALSE),0) +IFERROR(VLOOKUP(P6,'작성 X'!$B$19:$C$20,2,FALSE),0) -> 0
E7: =DATE(IF(MID(D7,8,1)<=2,1900,2000)+LEFT(D7,2),MID(D7,3,2),MID(D7,5,2)) -> #VALUE! | G7: =IFERROR(INDEX('작성 X'!$F:$F,MATCH(F7,'작성 X'!$G:$G,0)),"") | K7: =IFERROR(VLOOKUP(L7,'작성 X'!$B$2:$C$7,2,FALSE),0) +IFERROR(VLOOKUP(M7,'작성 X'!$B$10:$C$12,2,FALSE),0) +IFERROR(VLOOKUP(N7,'작성 X'!$B$14:$C$17,2,FALSE),0) +IFERROR(VLOOKUP(O7,'작성 X'!$B$19:$C$20,2,FALSE),0) +IFERROR(VLOOKUP(P7,'작성 X'!$B$19:$C$20,2,FALSE),0) -> 0
E8: =DATE(IF(MID(D8,8,1)<=2,1900,2000)+LEFT(D8,2),MID(D8,3,2),MID(D8,5,2)) -> #VALUE! | G8: =IFERROR(INDEX('작성 X'!$F:$F,MATCH(F8,'작성 X'!$G:$G,0)),"") | K8: =IFERROR(VLOOKUP(L8,'작성 X'!$B$2:$C$7,2,FALSE),0) +IFERROR(VLOOKUP(M8,'작성 X'!$B$10:$C$12,2,FALSE),0) +IFERROR(VLOOKUP(N8,'작성 X'!$B$14:$C$17,2,FALSE),0) +IFERROR(VLOOKUP(O8,'작성 X'!$B$19:$C$20,2,FALSE),0) +IFERROR(VLOOKUP(P8,'작성 X'!$B$19:$C$20,2,FALSE),0) -> 0
E9: =DATE(IF(MID(D9,8,1)<=2,1900,2000)+LEFT(D9,2),MID(D9,3,2),MID(D9,5,2)) -> #VALUE! | G9: =IFERROR(INDEX('작성 X'!$F:$F,MATCH(F9,'작성 X'!$G:$G,0)),"") | K9: =IFERROR(VLOOKUP(L9,'작성 X'!$B$2:$C$7,2,FALSE),0) +IFERROR(VLOOKUP(M9,'작성 X'!$B$10:$C$12,2,FALSE),0) +IFERROR(VLOOKUP(N9,'작성 X'!$B$14:$C$17,2,FALSE),0) +IFERROR(VLOOKUP(O9,'작성 X'!$B$19:$C$20,2,FALSE),0) +IFERROR(VLOOKUP(P9,'작성 X'!$B$19:$C$20,2,FALSE),0) -> 0
E10: =DATE(IF(MID(D10,8,1)<=2,1900,2000)+LEFT(D10,2),MID(D10,3,2),MID(D10,5,2)) -> #VALUE! | G10: =IFERROR(INDEX('작성 X'!$F:$F,MATCH(F10,'작성 X'!$G:$G,0)),"") | K10: =IFERROR(VLOOKUP(L10,'작성 X'!$B$2:$C$7,2,FALSE),0) +IFERROR(VLOOKUP(M10,'작성 X'!$B$10:$C$12,2,FALSE),0) +IFERROR(VLOOKUP(N10,'작성 X'!$B$14:$C$17,2,FALSE),0) +IFERROR(VLOOKUP(O10,'작성 X'!$B$19:$C$20,2,FALSE),0) +IFERROR(VLOOKUP(P10,'작성 X'!$B$19:$C$20,2,FALSE),0) -> 0
E11: =DATE(IF(MID(D11,8,1)<=2,1900,2000)+LEFT(D11,2),MID(D11,3,2),MID(D11,5,2)) -> #VALUE! | G11: =IFERROR(INDEX('작성 X'!$F:$F,MATCH(F11,'작성 X'!$G:$G,0)),"") | K11: =IFERROR(VLOOKUP(L11,'작성 X'!$B$2:$C$7,2,FALSE),0) +IFERROR(VLOOKUP(M11,'작성 X'!$B$10:$C$12,2,FALSE),0) +IFERROR(VLOOKUP(N11,'작성 X'!$B$14:$C$17,2,FALSE),0) +IFERROR(VLOOKUP(O11,'작성 X'!$B$19:$C$20,2,FALSE),0) +IFERROR(VLOOKUP(P11,'작성 X'!$B$19:$C$20,2,FALSE),0) -> 0
E12: =DATE(IF(MID(D12,8,1)<=2,1900,2000)+LEFT(D12,2),MID(D12,3,2),MID(D12,5,2)) -> #VALUE! | G12: =IFERROR(INDEX('작성 X'!$F:$F,MATCH(F12,'작성 X'!$G:$G,0)),"") | K12: =IFERROR(VLOOKUP(L12,'작성 X'!$B$2:$C$7,2,FALSE),0) +IFERROR(VLOOKUP(M12,'작성 X'!$B$10:$C$12,2,FALSE),0) +IFERROR(VLOOKUP(N12,'작성 X'!$B$14:$C$17,2,FALSE),0) +IFERROR(VLOOKUP(O12,'작성 X'!$B$19:$C$20,2,FALSE),0) +IFERROR(VLOOKUP(P12,'작성 X'!$B$19:$C$20,2,FALSE),0) -> 0
E13: =DATE(IF(MID(D13,8,1)<=2,1900,2000)+LEFT(D13,2),MID(D13,3,2),MID(D13,5,2)) -> #VALUE! | G13: =IFERROR(INDEX('작성 X'!$F:$F,MATCH(F13,'작성 X'!$G:$G,0)),"") | K13: =IFERROR(VLOOKUP(L13,'작성 X'!$B$2:$C$7,2,FALSE),0) +IFERROR(VLOOKUP(M13,'작성 X'!$B$10:$C$12,2,FALSE),0) +IFERROR(VLOOKUP(N13,'작성 X'!$B$14:$C$17,2,FALSE),0) +IFERROR(VLOOKUP(O13,'작성 X'!$B$19:$C$20,2,FALSE),0) +IFERROR(VLOOKUP(P13,'작성 X'!$B$19:$C$20,2,FALSE),0) -> 0
E14: =DATE(IF(MID(D14,8,1)<=2,1900,2000)+LEFT(D14,2),MID(D14,3,2),MID(D14,5,2)) -> #VALUE! | G14: =IFERROR(INDEX('작성 X'!$F:$F,MATCH(F14,'작성 X'!$G:$G,0)),"") | K14: =IFERROR(VLOOKUP(L14,'작성 X'!$B$2:$C$7,2,FALSE),0) +IFERROR(VLOOKUP(M14,'작성 X'!$B$10:$C$12,2,FALSE),0) +IFERROR(VLOOKUP(N14,'작성 X'!$B$14:$C$17,2,FALSE),0) +IFERROR(VLOOKUP(O14,'작성 X'!$B$19:$C$20,2,FALSE),0) +IFERROR(VLOOKUP(P14,'작성 X'!$B$19:$C$20,2,FALSE),0) -> 0
E15: =DATE(IF(MID(D15,8,1)<=2,1900,2000)+LEFT(D15,2),MID(D15,3,2),MID(D15,5,2)) -> #VALUE! | G15: =IFERROR(INDEX('작성 X'!$F:$F,MATCH(F15,'작성 X'!$G:$G,0)),"") | K15: =IFERROR(VLOOKUP(L15,'작성 X'!$B$2:$C$7,2,FALSE),0) +IFERROR(VLOOKUP(M15,'작성 X'!$B$10:$C$12,2,FALSE),0) +IFERROR(VLOOKUP(N15,'작성 X'!$B$14:$C$17,2,FALSE),0) +IFERROR(VLOOKUP(O15,'작성 X'!$B$19:$C$20,2,FALSE),0) +IFERROR(VLOOKUP(P15,'작성 X'!$B$19:$C$20,2,FALSE),0) -> 0
E16: =DATE(IF(MID(D16,8,1)<=2,1900,2000)+LEFT(D16,2),MID(D16,3,2),MID(D16,5,2)) -> #VALUE! | G16: =IFERROR(INDEX('작성 X'!$F:$F,MATCH(F16,'작성 X'!$G:$G,0)),"") | K16: =IFERROR(VLOOKUP(L16,'작성 X'!$B$2:$C$7,2,FALSE),0) +IFERROR(VLOOKUP(M16,'작성 X'!$B$10:$C$12,2,FALSE),0) +IFERROR(VLOOKUP(N16,'작성 X'!$B$14:$C$17,2,FALSE),0) +IFERROR(VLOOKUP(O16,'작성 X'!$B$19:$C$20,2,FALSE),0) +IFERROR(VLOOKUP(P16,'작성 X'!$B$19:$C$20,2,FALSE),0) -> 0
E17: =DATE(IF(MID(D17,8,1)<=2,1900,2000)+LEFT(D17,2),MID(D17,3,2),MID(D17,5,2)) -> #VALUE! | G17: =IFERROR(INDEX('작성 X'!$F:$F,MATCH(F17,'작성 X'!$G:$G,0)),"") | K17: =IFERROR(VLOOKUP(L17,'작성 X'!$B$2:$C$7,2,FALSE),0) +IFERROR(VLOOKUP(M17,'작성 X'!$B$10:$C$12,2,FALSE),0) +IFERROR(VLOOKUP(N17,'작성 X'!$B$14:$C$17,2,FALSE),0) +IFERROR(VLOOKUP(O17,'작성 X'!$B$19:$C$20,2,FALSE),0) +IFERROR(VLOOKUP(P17,'작성 X'!$B$19:$C$20,2,FALSE),0) -> 0
... E36: =DATE(IF(MID(D36,8,1)<=2,1900,2000)+LEFT(D36,2),MID(D36,3,2),MID(D36,5,2)) -> #VALUE! | G36: =IFERROR(INDEX('작성 X'!$F:$F,MATCH(F36,'작성 X'!$G:$G,0)),"") | K36: =IFERROR(VLOOKUP(L36,'작성 X'!$B$2:$C$7,2,FALSE),0) +IFERROR(VLOOKUP(M36,'작성 X'!$B$10:$C$12,2,FALSE),0) +IFERROR(VLOOKUP(N36,'작성 X'!$B$14:$C$17,2,FALSE),0) +IFERROR(VLOOKUP(O36,'작성 X'!$B$19:$C$20,2,FALSE),0) +IFERROR(VLOOKUP(P36,'작성 X'!$B$19:$C$20,2,FALSE),0) -> 0
G37: =IFERROR(INDEX('작성 X'!$F:$F,MATCH(F37,'작성 X'!$G:$G,0)),"")
G38: =IFERROR(INDEX('작성 X'!$F:$F,MATCH(F38,'작성 X'!$G:$G,0)),"")
G39: =IFERROR(INDEX('작성 X'!$F:$F,MATCH(F39,'작성 X'!$G:$G,0)),"")
G40: =IFERROR(INDEX('작성 X'!$F:$F,MATCH(F40,'작성 X'!$G:$G,0)),"")
G41: =IFERROR(INDEX('작성 X'!$F:$F,MATCH(F41,'작성 X'!$G:$G,0)),"")
G42: =IFERROR(INDEX('작성 X'!$F:$F,MATCH(F42,'작성 X'!$G:$G,0)),"")
G43: =IFERROR(INDEX('작성 X'!$F:$F,MATCH(F43,'작성 X'!$G:$G,0)),"")
G44: =IFERROR(INDEX('작성 X'!$F:$F,MATCH(F44,'작성 X'!$G:$G,0)),"")
G45: =IFERROR(INDEX('작성 X'!$F:$F,MATCH(F45,'작성 X'!$G:$G,0)),"")
G46: =IFERROR(INDEX('작성 X'!$F:$F,MATCH(F46,'작성 X'!$G:$G,0)),"")
G47: =IFERROR(INDEX('작성 X'!$F:$F,MATCH(F47,'작성 X'!$G:$G,0)),"")
G48: =IFERROR(INDEX('작성 X'!$F:$F,MATCH(F48,'작성 X'!$G:$G,0)),"")
... G199: =IFERROR(INDEX('작성 X'!$F:$F,MATCH(F199,'작성 X'!$G:$G,0)),"")

Sheet 4. 학교밖고등학생(08~10년생)
A1: □ 2026년 경기도 청소년 생활장학금 지원대상자 추천 명단 (학교밖고등학생 08~10년생)
A2: ˙ 엑셀 서식 수정 X : 주민등록번호 기재 시 생년월일 자동, 은행명 선택 시 은행코드 자동, 각 항목 전체 기재 시 총점 자동 계산 (점수 계산 할 필요 x) ˙ 압류방지통장 불가, 현금 지급 불가 ˙ 다자녀가정 기준 : 성인 자녀 포함 자녀 3인 이상 가정(2자녀 가구 해당X) 이혼 ·한부모가정의 경우 담당자 업무 매뉴얼 참고 ˙ 1가구 당 1인 선정 (가구당 2인 이상 신청 시 비고란에 해당사항 기재 요청) ˙ 배점표 및 점수와 관련한 일체 내용 민원인에게 공개 금지
A3: 구분 | B3: 읍면동 | C3: 학생성명 | D3: 주민등록번호 | E3: 생년월일 (자동작성) | F3: 계좌정보 (청소년 본인계좌 우선, 압류방지통장 불가) | K3: 총점 (자동작성) | L3: 소득기준 | M3: 우대조건 | Q3: 보호자연락처 | R3: 접수유형 | S3: 비고 (특이사항)
F4: 은행명 | G4: 은행코드 (자동작성) | H4: 예금주명 | I4: 계 좌 번 호 | J4: 학생과의 관계 | M4: 25년 생활장학금 수혜여부 | N4: 도내 시설거주자 | O4: 다자녀가정 | P4: 다문화가정 및 북한이탈주민
A5: 1 | B5: 주교동 | C5: 이고양 | D5: 090210-4000000 | E5: =DATE(IF(MID(D5,8,1)<=2,1900,2000)+LEFT(D5,2),MID(D5,3,2),MID(D5,5,2)) -> 39854 | F5: 한국은행 | G5: =IFERROR(INDEX('작성 X'!$F:$F,MATCH(F5,'작성 X'!$G:$G,0)),"") -> 001 | I5: 011-22-333-0523 | J5: 본인 | K5: =IFERROR(VLOOKUP(L5,'작성 X'!$B$2:$C$7,2,FALSE),0) +IFERROR(VLOOKUP(M5,'작성 X'!$B$10:$C$12,2,FALSE),0) +IFERROR(VLOOKUP(N5,'작성 X'!$B$14:$C$17,2,FALSE),0) +IFERROR(VLOOKUP(O5,'작성 X'!$B$19:$C$20,2,FALSE),0) +IFERROR(VLOOKUP(P5,'작성 X'!$B$19:$C$20,2,FALSE),0) -> 100 | L5: 생계 | M5: 미지급 | N5: 보호대상아동 | O5: O | P5: O | Q5: 010-0000-9999 | R5: 온라인 | S5: 중학생 이길동의 누나
E6: =DATE(IF(MID(D6,8,1)<=2,1900,2000)+LEFT(D6,2),MID(D6,3,2),MID(D6,5,2)) -> #VALUE! | G6: =IFERROR(INDEX('작성 X'!$F:$F,MATCH(F6,'작성 X'!$G:$G,0)),"") | K6: =IFERROR(VLOOKUP(L6,'작성 X'!$B$2:$C$7,2,FALSE),0) +IFERROR(VLOOKUP(M6,'작성 X'!$B$10:$C$12,2,FALSE),0) +IFERROR(VLOOKUP(N6,'작성 X'!$B$14:$C$17,2,FALSE),0) +IFERROR(VLOOKUP(O6,'작성 X'!$B$19:$C$20,2,FALSE),0) +IFERROR(VLOOKUP(P6,'작성 X'!$B$19:$C$20,2,FALSE),0) -> 0
E7: =DATE(IF(MID(D7,8,1)<=2,1900,2000)+LEFT(D7,2),MID(D7,3,2),MID(D7,5,2)) -> #VALUE! | G7: =IFERROR(INDEX('작성 X'!$F:$F,MATCH(F7,'작성 X'!$G:$G,0)),"") | K7: =IFERROR(VLOOKUP(L7,'작성 X'!$B$2:$C$7,2,FALSE),0) +IFERROR(VLOOKUP(M7,'작성 X'!$B$10:$C$12,2,FALSE),0) +IFERROR(VLOOKUP(N7,'작성 X'!$B$14:$C$17,2,FALSE),0) +IFERROR(VLOOKUP(O7,'작성 X'!$B$19:$C$20,2,FALSE),0) +IFERROR(VLOOKUP(P7,'작성 X'!$B$19:$C$20,2,FALSE),0) -> 0
E8: =DATE(IF(MID(D8,8,1)<=2,1900,2000)+LEFT(D8,2),MID(D8,3,2),MID(D8,5,2)) -> #VALUE! | G8: =IFERROR(INDEX('작성 X'!$F:$F,MATCH(F8,'작성 X'!$G:$G,0)),"") | K8: =IFERROR(VLOOKUP(L8,'작성 X'!$B$2:$C$7,2,FALSE),0) +IFERROR(VLOOKUP(M8,'작성 X'!$B$10:$C$12,2,FALSE),0) +IFERROR(VLOOKUP(N8,'작성 X'!$B$14:$C$17,2,FALSE),0) +IFERROR(VLOOKUP(O8,'작성 X'!$B$19:$C$20,2,FALSE),0) +IFERROR(VLOOKUP(P8,'작성 X'!$B$19:$C$20,2,FALSE),0) -> 0
E9: =DATE(IF(MID(D9,8,1)<=2,1900,2000)+LEFT(D9,2),MID(D9,3,2),MID(D9,5,2)) -> #VALUE! | G9: =IFERROR(INDEX('작성 X'!$F:$F,MATCH(F9,'작성 X'!$G:$G,0)),"") | K9: =IFERROR(VLOOKUP(L9,'작성 X'!$B$2:$C$7,2,FALSE),0) +IFERROR(VLOOKUP(M9,'작성 X'!$B$10:$C$12,2,FALSE),0) +IFERROR(VLOOKUP(N9,'작성 X'!$B$14:$C$17,2,FALSE),0) +IFERROR(VLOOKUP(O9,'작성 X'!$B$19:$C$20,2,FALSE),0) +IFERROR(VLOOKUP(P9,'작성 X'!$B$19:$C$20,2,FALSE),0) -> 0
E10: =DATE(IF(MID(D10,8,1)<=2,1900,2000)+LEFT(D10,2),MID(D10,3,2),MID(D10,5,2)) -> #VALUE! | G10: =IFERROR(INDEX('작성 X'!$F:$F,MATCH(F10,'작성 X'!$G:$G,0)),"") | K10: =IFERROR(VLOOKUP(L10,'작성 X'!$B$2:$C$7,2,FALSE),0) +IFERROR(VLOOKUP(M10,'작성 X'!$B$10:$C$12,2,FALSE),0) +IFERROR(VLOOKUP(N10,'작성 X'!$B$14:$C$17,2,FALSE),0) +IFERROR(VLOOKUP(O10,'작성 X'!$B$19:$C$20,2,FALSE),0) +IFERROR(VLOOKUP(P10,'작성 X'!$B$19:$C$20,2,FALSE),0) -> 0
E11: =DATE(IF(MID(D11,8,1)<=2,1900,2000)+LEFT(D11,2),MID(D11,3,2),MID(D11,5,2)) -> #VALUE! | G11: =IFERROR(INDEX('작성 X'!$F:$F,MATCH(F11,'작성 X'!$G:$G,0)),"") | K11: =IFERROR(VLOOKUP(L11,'작성 X'!$B$2:$C$7,2,FALSE),0) +IFERROR(VLOOKUP(M11,'작성 X'!$B$10:$C$12,2,FALSE),0) +IFERROR(VLOOKUP(N11,'작성 X'!$B$14:$C$17,2,FALSE),0) +IFERROR(VLOOKUP(O11,'작성 X'!$B$19:$C$20,2,FALSE),0) +IFERROR(VLOOKUP(P11,'작성 X'!$B$19:$C$20,2,FALSE),0) -> 0
E12: =DATE(IF(MID(D12,8,1)<=2,1900,2000)+LEFT(D12,2),MID(D12,3,2),MID(D12,5,2)) -> #VALUE! | G12: =IFERROR(INDEX('작성 X'!$F:$F,MATCH(F12,'작성 X'!$G:$G,0)),"") | K12: =IFERROR(VLOOKUP(L12,'작성 X'!$B$2:$C$7,2,FALSE),0) +IFERROR(VLOOKUP(M12,'작성 X'!$B$10:$C$12,2,FALSE),0) +IFERROR(VLOOKUP(N12,'작성 X'!$B$14:$C$17,2,FALSE),0) +IFERROR(VLOOKUP(O12,'작성 X'!$B$19:$C$20,2,FALSE),0) +IFERROR(VLOOKUP(P12,'작성 X'!$B$19:$C$20,2,FALSE),0) -> 0
E13: =DATE(IF(MID(D13,8,1)<=2,1900,2000)+LEFT(D13,2),MID(D13,3,2),MID(D13,5,2)) -> #VALUE! | G13: =IFERROR(INDEX('작성 X'!$F:$F,MATCH(F13,'작성 X'!$G:$G,0)),"") | K13: =IFERROR(VLOOKUP(L13,'작성 X'!$B$2:$C$7,2,FALSE),0) +IFERROR(VLOOKUP(M13,'작성 X'!$B$10:$C$12,2,FALSE),0) +IFERROR(VLOOKUP(N13,'작성 X'!$B$14:$C$17,2,FALSE),0) +IFERROR(VLOOKUP(O13,'작성 X'!$B$19:$C$20,2,FALSE),0) +IFERROR(VLOOKUP(P13,'작성 X'!$B$19:$C$20,2,FALSE),0) -> 0
E14: =DATE(IF(MID(D14,8,1)<=2,1900,2000)+LEFT(D14,2),MID(D14,3,2),MID(D14,5,2)) -> #VALUE! | G14: =IFERROR(INDEX('작성 X'!$F:$F,MATCH(F14,'작성 X'!$G:$G,0)),"") | K14: =IFERROR(VLOOKUP(L14,'작성 X'!$B$2:$C$7,2,FALSE),0) +IFERROR(VLOOKUP(M14,'작성 X'!$B$10:$C$12,2,FALSE),0) +IFERROR(VLOOKUP(N14,'작성 X'!$B$14:$C$17,2,FALSE),0) +IFERROR(VLOOKUP(O14,'작성 X'!$B$19:$C$20,2,FALSE),0) +IFERROR(VLOOKUP(P14,'작성 X'!$B$19:$C$20,2,FALSE),0) -> 0
E15: =DATE(IF(MID(D15,8,1)<=2,1900,2000)+LEFT(D15,2),MID(D15,3,2),MID(D15,5,2)) -> #VALUE! | G15: =IFERROR(INDEX('작성 X'!$F:$F,MATCH(F15,'작성 X'!$G:$G,0)),"") | K15: =IFERROR(VLOOKUP(L15,'작성 X'!$B$2:$C$7,2,FALSE),0) +IFERROR(VLOOKUP(M15,'작성 X'!$B$10:$C$12,2,FALSE),0) +IFERROR(VLOOKUP(N15,'작성 X'!$B$14:$C$17,2,FALSE),0) +IFERROR(VLOOKUP(O15,'작성 X'!$B$19:$C$20,2,FALSE),0) +IFERROR(VLOOKUP(P15,'작성 X'!$B$19:$C$20,2,FALSE),0) -> 0
E16: =DATE(IF(MID(D16,8,1)<=2,1900,2000)+LEFT(D16,2),MID(D16,3,2),MID(D16,5,2)) -> #VALUE! | G16: =IFERROR(INDEX('작성 X'!$F:$F,MATCH(F16,'작성 X'!$G:$G,0)),"") | K16: =IFERROR(VLOOKUP(L16,'작성 X'!$B$2:$C$7,2,FALSE),0) +IFERROR(VLOOKUP(M16,'작성 X'!$B$10:$C$12,2,FALSE),0) +IFERROR(VLOOKUP(N16,'작성 X'!$B$14:$C$17,2,FALSE),0) +IFERROR(VLOOKUP(O16,'작성 X'!$B$19:$C$20,2,FALSE),0) +IFERROR(VLOOKUP(P16,'작성 X'!$B$19:$C$20,2,FALSE),0) -> 0
E17: =DATE(IF(MID(D17,8,1)<=2,1900,2000)+LEFT(D17,2),MID(D17,3,2),MID(D17,5,2)) -> #VALUE! | G17: =IFERROR(INDEX('작성 X'!$F:$F,MATCH(F17,'작성 X'!$G:$G,0)),"") | K17: =IFERROR(VLOOKUP(L17,'작성 X'!$B$2:$C$7,2,FALSE),0) +IFERROR(VLOOKUP(M17,'작성 X'!$B$10:$C$12,2,FALSE),0) +IFERROR(VLOOKUP(N17,'작성 X'!$B$14:$C$17,2,FALSE),0) +IFERROR(VLOOKUP(O17,'작성 X'!$B$19:$C$20,2,FALSE),0) +IFERROR(VLOOKUP(P17,'작성 X'!$B$19:$C$20,2,FALSE),0) -> 0
... E36: =DATE(IF(MID(D36,8,1)<=2,1900,2000)+LEFT(D36,2),MID(D36,3,2),MID(D36,5,2)) -> #VALUE! | G36: =IFERROR(INDEX('작성 X'!$F:$F,MATCH(F36,'작성 X'!$G:$G,0)),"") | K36: =IFERROR(VLOOKUP(L36,'작성 X'!$B$2:$C$7,2,FALSE),0) +IFERROR(VLOOKUP(M36,'작성 X'!$B$10:$C$12,2,FALSE),0) +IFERROR(VLOOKUP(N36,'작성 X'!$B$14:$C$17,2,FALSE),0) +IFERROR(VLOOKUP(O36,'작성 X'!$B$19:$C$20,2,FALSE),0) +IFERROR(VLOOKUP(P36,'작성 X'!$B$19:$C$20,2,FALSE),0) -> 0
G37: =IFERROR(INDEX('작성 X'!$F:$F,MATCH(F37,'작성 X'!$G:$G,0)),"")
G38: =IFERROR(INDEX('작성 X'!$F:$F,MATCH(F38,'작성 X'!$G:$G,0)),"")
G39: =IFERROR(INDEX('작성 X'!$F:$F,MATCH(F39,'작성 X'!$G:$G,0)),"")
G40: =IFERROR(INDEX('작성 X'!$F:$F,MATCH(F40,'작성 X'!$G:$G,0)),"")
G41: =IFERROR(INDEX('작성 X'!$F:$F,MATCH(F41,'작성 X'!$G:$G,0)),"")
G42: =IFERROR(INDEX('작성 X'!$F:$F,MATCH(F42,'작성 X'!$G:$G,0)),"")
G43: =IFERROR(INDEX('작성 X'!$F:$F,MATCH(F43,'작성 X'!$G:$G,0)),"")
G44: =IFERROR(INDEX('작성 X'!$F:$F,MATCH(F44,'작성 X'!$G:$G,0)),"")
G45: =IFERROR(INDEX('작성 X'!$F:$F,MATCH(F45,'작성 X'!$G:$G,0)),"")
G46: =IFERROR(INDEX('작성 X'!$F:$F,MATCH(F46,'작성 X'!$G:$G,0)),"")
G47: =IFERROR(INDEX('작성 X'!$F:$F,MATCH(F47,'작성 X'!$G:$G,0)),"")
G48: =IFERROR(INDEX('작성 X'!$F:$F,MATCH(F48,'작성 X'!$G:$G,0)),"")
... G199: =IFERROR(INDEX('작성 X'!$F:$F,MATCH(F199,'작성 X'!$G:$G,0)),"")

Sheet 작성 X
B1: 점수산정표 | F1: 은행코드 | G1: 은행명
B2: 생계 | C2: 60 | F2: 001 | G2: 한국은행
B3: 의료 | C3: 58 | F3: 002 | G3: 산업은행
B4: 주거 | C4: 56 | F4: 003 | G4: 기업은행
B5: 교육 | C5: 54 | F5: 004 | G5: 국민은행
B6: 차상위 | C6: 54 | F6: 007 | G6: 수협은행
B7: 한부모(조손) | C7: 50 | F7: 008 | G7: 수출입은행
F8: 011 | G8: 농협은행
B9: 전년도 수혜자 | F9: 012 | G9: 지역 농축협
B10: 미지급 | C10: 10 | F10: 020 | G10: 우리은행
B11: 50% 지급 | C11: 5 | F11: 023 | G11: SC제일은행
B12: 100% 지급 | C12: 0 | F12: 027 | G12: 한국씨티은행
F13: 031 | G13: 대구은행
B14: 청소년복지시설 | C14: 10 | F14: 032 | G14: 부산은행
B15: 장애인복지시설 | C15: 10 | F15: 034 | G15: 광주은행
B16: 보호대상아동 | C16: 10 | F16: 035 | G16: 제주은행
B17: 해당없음 | C17: 0 | F17: 037 | G17: 전북은행
F18: 039 | G18: 경남은행
B19: O | C19: 10 | F19: 045 | G19: 새마을금고중앙회
B20: X | C20: 0 | F20: 048 | G20: 신협
F21: 050 | G21: 상호저축은행
F22: 051 | G22: 기타 외국계은행(중국 교통은행 등)
F23: 052 | G23: 모간스탠리은행
F24: 054 | G24: HSBC은행
F25: 055 | G25: 도이치은행
F26: 057 | G26: 제이피모간체이스은행
F27: 058 | G27: 미즈호은행
F28: 059 | G28: 미쓰비시도쿄UFJ은행
F29: 060 | G29: BOA은행
F30: 061 | G30: 비엔피파리바은행
F31: 062 | G31: 중국공상은행
F32: 063 | G32: 중국은행
... F78: 294 | G78: 한국포스증권
